BEGIN:VCALENDAR
VERSION:2.0
PRODID:-//Drupal: Date iCal//NONSGML kigkonsult.se iCalcreator 2.18//
METHOD:PUBLISH
X-WR-CALNAME;VALUE=TEXT:Calendar of Events
BEGIN:VTIMEZONE
TZID:America/New_York
BEGIN:STANDARD
DTSTART:20261101T020000
TZOFFSETFROM:-0400
TZOFFSETTO:-0500
TZNAME:EST
END:STANDARD
BEGIN:DAYLIGHT
DTSTART:20270314T020000
TZOFFSETFROM:-0500
TZOFFSETTO:-0400
TZNAME:EDT
END:DAYLIGHT
END:VTIMEZONE
BEGIN:VEVENT
UID:calendar.71266.field_date.0@calendar.lafayette.edu
DTSTAMP:20260425T233831Z
DESCRIPTION:Faculty and staff are invited to an interest meeting on Monday\
 , May 4\, \n12:00–1:00 p.m. in Hogg Hall\, Interfaith Chapel (lunch provid
 ed). RSVP to \nattend or register interest in joining a future meeting her
 e [1]. \n\nThis community group aims to bring together parents to discuss 
 the challenges \nand successes of balancing parenting and work at Lafayett
 e. Topics may \ninclude childcare\, alignment between schools/daycare and 
 Lafayette weather \npractices\, meeting and event scheduling\, and more. 
 \n\nThis initial meeting will be led by Mary Jo Lodge (Theater) and Kate P
 itts \n(Libraries). We are also seeking additional faculty and staff to se
 rve as \nfuture facilitators.\n\nInterested in starting other Communities 
 of Belonging for Faculty and Staff? \nContact Lauren Anderson\, Dean of th
 e Faculty\, with your suggestions.\n\n\n[1] https://docs.google.com/forms/
 d/e/1FAIpQLScDbON2TvbQnNgXFjittMAnSr9pv1L1rYf-uBQuoi8l7-9sXQ/viewform?usp=
 publish-editor
DTSTART;TZID=America/New_York:20260504T120000
DTEND;TZID=America/New_York:20260504T130000
LAST-MODIFIED:20260424T160300Z
LOCATION:Hogg Hall
SUMMARY:Parenting Community of Belonging Interest Meeting for Faculty and S
 taff
URL;TYPE=URI:https://calendar.lafayette.edu/node/71266
END:VEVENT
END:VCALENDAR
