BEGIN:VCALENDAR
VERSION:2.0
PRODID:-//Drupal: Date iCal//NONSGML kigkonsult.se iCalcreator 2.18//
METHOD:PUBLISH
X-WR-CALNAME;VALUE=TEXT:Calendar of Events
BEGIN:VTIMEZONE
TZID:America/New_York
BEGIN:STANDARD
DTSTART:20261101T020000
TZOFFSETFROM:-0400
TZOFFSETTO:-0500
TZNAME:EST
END:STANDARD
BEGIN:DAYLIGHT
DTSTART:20270314T020000
TZOFFSETFROM:-0500
TZOFFSETTO:-0400
TZNAME:EDT
END:DAYLIGHT
END:VTIMEZONE
BEGIN:VEVENT
UID:calendar.71265.field_date.0@calendar.lafayette.edu
DTSTAMP:20260425T233831Z
DESCRIPTION:Pop by the Quad on Thursday\, April 30th for the long awaited B
 ubble Tea \nPop-Up! Last year was a hit\, so let's run it back and celebra
 te National \nBubble Tea Day with a refreshing and tea-rrific pick‑me‑up!
DTSTART;TZID=America/New_York:20260430T110000
DTEND;TZID=America/New_York:20260430T130000
LAST-MODIFIED:20260424T142852Z
LOCATION:Quad
SUMMARY:Bubble Tea Pop-Up
URL;TYPE=URI:https://calendar.lafayette.edu/node/71265
END:VEVENT
END:VCALENDAR
