BEGIN:VCALENDAR
VERSION:2.0
PRODID:-//Drupal: Date iCal//NONSGML kigkonsult.se iCalcreator 2.18//
METHOD:PUBLISH
X-WR-CALNAME;VALUE=TEXT:Calendar of Events
BEGIN:VTIMEZONE
TZID:America/New_York
BEGIN:STANDARD
DTSTART:20261101T020000
TZOFFSETFROM:-0400
TZOFFSETTO:-0500
TZNAME:EST
END:STANDARD
BEGIN:DAYLIGHT
DTSTART:20270314T020000
TZOFFSETFROM:-0500
TZOFFSETTO:-0400
TZNAME:EDT
END:DAYLIGHT
END:VTIMEZONE
BEGIN:VEVENT
UID:calendar.71261.field_date.0@calendar.lafayette.edu
DTSTAMP:20260423T115020Z
DESCRIPTION:Join us on the Quad for a sweet spring treat. Celebrate Nationa
 l Blueberry \nPie Day at our Build-Your-Own Blueberry Pie Bowl Pop-Up! \n
 \nRelax\, enjoy a perfect study break with a delicious way to celebrate th
 e \nseason.
DTSTART;TZID=America/New_York:20260428T110000
DTEND;TZID=America/New_York:20260428T130000
LAST-MODIFIED:20260422T175045Z
LOCATION:Quad
SUMMARY:BYO Blueberry Pie Bowls Pop‑Up
URL;TYPE=URI:https://calendar.lafayette.edu/node/71261
END:VEVENT
END:VCALENDAR
