BEGIN:VCALENDAR
VERSION:2.0
PRODID:-//Drupal: Date iCal//NONSGML kigkonsult.se iCalcreator 2.18//
METHOD:PUBLISH
X-WR-CALNAME;VALUE=TEXT:Calendar of Events
BEGIN:VTIMEZONE
TZID:America/New_York
BEGIN:STANDARD
DTSTART:20261101T020000
TZOFFSETFROM:-0400
TZOFFSETTO:-0500
TZNAME:EST
END:STANDARD
BEGIN:DAYLIGHT
DTSTART:20270314T020000
TZOFFSETFROM:-0500
TZOFFSETTO:-0400
TZNAME:EDT
END:DAYLIGHT
END:VTIMEZONE
BEGIN:VEVENT
UID:calendar.71259.field_date.0@calendar.lafayette.edu
DTSTAMP:20260423T004814Z
DESCRIPTION:We'd love you to join us in celebrating our Honors Students dur
 ing a Recital \nshowcasing their achievments during the Spring 2026 semest
 er. \n\nCome support your friends and students!
DTSTART;TZID=America/New_York:20260508T200000
DTEND;TZID=America/New_York:20260508T210000
LAST-MODIFIED:20260421T190954Z
LOCATION:William&#039\;s Center for the Arts - Main Stage
SUMMARY:Music Students' Honors Recital
URL;TYPE=URI:https://calendar.lafayette.edu/node/71259
END:VEVENT
END:VCALENDAR
