BEGIN:VCALENDAR
VERSION:2.0
PRODID:-//Drupal: Date iCal//NONSGML kigkonsult.se iCalcreator 2.18//
METHOD:PUBLISH
X-WR-CALNAME;VALUE=TEXT:Calendar of Events
BEGIN:VTIMEZONE
TZID:America/New_York
BEGIN:STANDARD
DTSTART:20261101T020000
TZOFFSETFROM:-0400
TZOFFSETTO:-0500
TZNAME:EST
END:STANDARD
BEGIN:DAYLIGHT
DTSTART:20270314T020000
TZOFFSETFROM:-0500
TZOFFSETTO:-0400
TZNAME:EDT
END:DAYLIGHT
END:VTIMEZONE
BEGIN:VEVENT
UID:calendar.71258.field_date.0@calendar.lafayette.edu
DTSTAMP:20260423T004813Z
DESCRIPTION:Seniors\, don't miss this one-stop event where you can take car
 e of all your \ngraduation details. Pick up pre-ordered regalia\, get your
  diploma cover and \nmuch more!
DTSTART;TZID=America/New_York:20260423T100000
DTEND;TZID=America/New_York:20260423T160000
LAST-MODIFIED:20260421T092351Z
LOCATION:211 McCartney St
SUMMARY:Grad Finale
URL;TYPE=URI:https://calendar.lafayette.edu/node/71258
END:VEVENT
BEGIN:VEVENT
UID:calendar.71258.field_date.1@calendar.lafayette.edu
DTSTAMP:20260423T004813Z
DESCRIPTION:Seniors\, don't miss this one-stop event where you can take car
 e of all your \ngraduation details. Pick up pre-ordered regalia\, get your
  diploma cover and \nmuch more!
DTSTART;TZID=America/New_York:20260424T100000
DTEND;TZID=America/New_York:20260424T160000
LAST-MODIFIED:20260421T092351Z
SUMMARY:Grad Finale
URL;TYPE=URI:https://calendar.lafayette.edu/node/71258
END:VEVENT
END:VCALENDAR
