BEGIN:VCALENDAR
VERSION:2.0
PRODID:-//Drupal: Date iCal//NONSGML kigkonsult.se iCalcreator 2.18//
METHOD:PUBLISH
X-WR-CALNAME;VALUE=TEXT:Calendar of Events
BEGIN:VTIMEZONE
TZID:America/New_York
BEGIN:STANDARD
DTSTART:20261101T020000
TZOFFSETFROM:-0400
TZOFFSETTO:-0500
TZNAME:EST
END:STANDARD
BEGIN:DAYLIGHT
DTSTART:20270314T020000
TZOFFSETFROM:-0500
TZOFFSETTO:-0400
TZNAME:EDT
END:DAYLIGHT
END:VTIMEZONE
BEGIN:VEVENT
UID:calendar.71256.field_date.0@calendar.lafayette.edu
DTSTAMP:20260423T004815Z
DESCRIPTION:All are invited to a symposium highlighting final projects in C
 E 203: \nBuilding a Sustainable World. Hear how students examined the envi
 ronmental\, \neconomic\, and social impacts of real data centers in commun
 ities across North \nAmerica. Light refreshments will be provided. 
DTSTART;TZID=America/New_York:20260507T093000
DTEND;TZID=America/New_York:20260507T104500
LAST-MODIFIED:20260420T191924Z
LOCATION:Acopian Engineering Center (AEC)\, 511
SUMMARY:The Environment\, Communities\, & Data Centers
URL;TYPE=URI:https://calendar.lafayette.edu/node/71256
END:VEVENT
END:VCALENDAR
