BEGIN:VCALENDAR
VERSION:2.0
PRODID:-//Drupal: Date iCal//NONSGML kigkonsult.se iCalcreator 2.18//
METHOD:PUBLISH
X-WR-CALNAME;VALUE=TEXT:Calendar of Events
BEGIN:VTIMEZONE
TZID:America/New_York
BEGIN:STANDARD
DTSTART:20261101T020000
TZOFFSETFROM:-0400
TZOFFSETTO:-0500
TZNAME:EST
END:STANDARD
BEGIN:DAYLIGHT
DTSTART:20270314T020000
TZOFFSETFROM:-0500
TZOFFSETTO:-0400
TZNAME:EDT
END:DAYLIGHT
END:VTIMEZONE
BEGIN:VEVENT
UID:calendar.71255.field_date.0@calendar.lafayette.edu
DTSTAMP:20260423T071752Z
DESCRIPTION:On April 27th from 5 pm to 6 pm LEAP and Pi Beta Phi are hostin
 g an Arts \nTrail Cleanup. Meetup will be in front of Farinon Courts.\n\n-
 ------- IMPORTED EVENT ---------------------------------------------------
 ---\n\nThis event has been imported from an external calendar. View the or
 iginal \nevent [1].\n\n\n[1] https://ourcampus.lafayette.edu/leap/rsvp?id=
 2142981
DTSTART;TZID=America/New_York:20260427T170000
DTEND;TZID=America/New_York:20260427T180000
LAST-MODIFIED:20260420T171529Z
LOCATION:Private Location (sign in to display)
SUMMARY:Arts Trail Cleanup LEAP & Pi Beta Phi
URL;TYPE=URI:https://calendar.lafayette.edu/node/71255
END:VEVENT
END:VCALENDAR
