BEGIN:VCALENDAR
VERSION:2.0
PRODID:-//Drupal: Date iCal//NONSGML kigkonsult.se iCalcreator 2.18//
METHOD:PUBLISH
X-WR-CALNAME;VALUE=TEXT:Calendar of Events
BEGIN:VTIMEZONE
TZID:America/New_York
BEGIN:STANDARD
DTSTART:20261101T020000
TZOFFSETFROM:-0400
TZOFFSETTO:-0500
TZNAME:EST
END:STANDARD
BEGIN:DAYLIGHT
DTSTART:20270314T020000
TZOFFSETFROM:-0500
TZOFFSETTO:-0400
TZNAME:EDT
END:DAYLIGHT
END:VTIMEZONE
BEGIN:VEVENT
UID:calendar.71254.field_date.0@calendar.lafayette.edu
DTSTAMP:20260423T082022Z
DESCRIPTION:Liana Wijetunga ’26 – Honors Thesis Defense\n\n-------- IMPORTE
 D EVENT ------------------------------------------------------\n\nThis eve
 nt has been imported from an external calendar. View the original \nevent 
 [1].\n\n\n[1] https://ourcampus.lafayette.edu/GEOL/rsvp?id=2142980
DTSTART;TZID=America/New_York:20260508T133000
DTEND;TZID=America/New_York:20260508T140000
LAST-MODIFIED:20260420T133525Z
LOCATION:Van Wickle 108\, Easton\, PA 18042\, United States
SUMMARY:Geology Seminar 'Taphonomic and Geochemical Investigations of Varie
 gated \nBivalves in a Sahbka Paleoenvironment:  The Middle Jurassic Gypsum
  Springs \nFormation\, Wyoming\, USA'
URL;TYPE=URI:https://calendar.lafayette.edu/node/71254
END:VEVENT
END:VCALENDAR
