BEGIN:VCALENDAR
VERSION:2.0
PRODID:-//Drupal: Date iCal//NONSGML kigkonsult.se iCalcreator 2.18//
METHOD:PUBLISH
X-WR-CALNAME;VALUE=TEXT:Calendar of Events
BEGIN:VTIMEZONE
TZID:America/New_York
BEGIN:STANDARD
DTSTART:20261101T020000
TZOFFSETFROM:-0400
TZOFFSETTO:-0500
TZNAME:EST
END:STANDARD
BEGIN:DAYLIGHT
DTSTART:20270314T020000
TZOFFSETFROM:-0500
TZOFFSETTO:-0400
TZNAME:EDT
END:DAYLIGHT
END:VTIMEZONE
BEGIN:VEVENT
UID:calendar.71253.field_date.0@calendar.lafayette.edu
DTSTAMP:20260423T082023Z
DESCRIPTION:Dr. Adam Ianno\nMineral Resource Analysis\nPennsylvania Geologi
 cal Survey\n\n-------- IMPORTED EVENT ------------------------------------
 ------------------\n\nThis event has been imported from an external calend
 ar. View the original \nevent [1].\n\n\n[1] https://ourcampus.lafayette.ed
 u/GEOL/rsvp?id=2142979
DTSTART;TZID=America/New_York:20260430T122000
DTEND;TZID=America/New_York:20260430T130000
LAST-MODIFIED:20260420T133028Z
LOCATION:Van Wickle 108\, Easton\, PA 18042\, United States
SUMMARY:Geology Seminar 'Dolomite as a critical mineral: the past and futur
 e of \n“natural cement”
URL;TYPE=URI:https://calendar.lafayette.edu/node/71253
END:VEVENT
END:VCALENDAR
