BEGIN:VCALENDAR
VERSION:2.0
PRODID:-//Drupal: Date iCal//NONSGML kigkonsult.se iCalcreator 2.18//
METHOD:PUBLISH
X-WR-CALNAME;VALUE=TEXT:Calendar of Events
BEGIN:VTIMEZONE
TZID:America/New_York
BEGIN:STANDARD
DTSTART:20261101T020000
TZOFFSETFROM:-0400
TZOFFSETTO:-0500
TZNAME:EST
END:STANDARD
BEGIN:DAYLIGHT
DTSTART:20270314T020000
TZOFFSETFROM:-0500
TZOFFSETTO:-0400
TZNAME:EDT
END:DAYLIGHT
END:VTIMEZONE
BEGIN:VEVENT
UID:calendar.71247.field_date.0@calendar.lafayette.edu
DTSTAMP:20260421T085026Z
DESCRIPTION:Celebrate National Cherry Cheesecake Day and stop by to grab a 
 delicious \nslice and enjoy a little mid‑day delight. Come celebrate with 
 us on the \nquad with these cherry-topped sweet treats!
DTSTART;TZID=America/New_York:20260423T110000
DTEND;TZID=America/New_York:20260423T130000
LAST-MODIFIED:20260417T164954Z
LOCATION:Quad
SUMMARY:Cherry Cheesecake Pop-Up
URL;TYPE=URI:https://calendar.lafayette.edu/node/71247
END:VEVENT
END:VCALENDAR
