BEGIN:VCALENDAR
VERSION:2.0
PRODID:-//Drupal: Date iCal//NONSGML kigkonsult.se iCalcreator 2.18//
METHOD:PUBLISH
X-WR-CALNAME;VALUE=TEXT:Calendar of Events
BEGIN:VTIMEZONE
TZID:America/New_York
BEGIN:STANDARD
DTSTART:20261101T020000
TZOFFSETFROM:-0400
TZOFFSETTO:-0500
TZNAME:EST
END:STANDARD
BEGIN:DAYLIGHT
DTSTART:20270314T020000
TZOFFSETFROM:-0500
TZOFFSETTO:-0400
TZNAME:EDT
END:DAYLIGHT
END:VTIMEZONE
BEGIN:VEVENT
UID:calendar.71244.field_date.0@calendar.lafayette.edu
DTSTAMP:20260421T085027Z
DESCRIPTION:Three candidates for the Associate Dean (First-Year Class Dean)
  will come to \ncampus! Small group sessions will be held during the follo
 wing times and are \nopen to all members of the community:\n \n10:35 am – 
 11:30 am \n\n11:35 am - 12:30 pm \n\n1:35 pm - 2:30 pm \n\n \nApril 22-RIS
 C 302\n \n \nIf you are interested in attending\, please send an email to 
 Tim Cox \nat coxt@lafayette.edu [1] to receive the candidate's materials a
 nd a brief \nevaluation form. \n \n\n\n[1] mailto:coxt@lafayette.edu
DTSTART;TZID=America/New_York:20260422T103500
DTEND;TZID=America/New_York:20260422T143000
LAST-MODIFIED:20260417T202126Z
LOCATION:RISC 302
SUMMARY:Meet the First-Year Class Dean Finalist!
URL;TYPE=URI:https://calendar.lafayette.edu/node/71244
END:VEVENT
END:VCALENDAR
