BEGIN:VCALENDAR
VERSION:2.0
PRODID:-//Drupal: Date iCal//NONSGML kigkonsult.se iCalcreator 2.18//
METHOD:PUBLISH
X-WR-CALNAME;VALUE=TEXT:Calendar of Events
BEGIN:VTIMEZONE
TZID:America/New_York
BEGIN:STANDARD
DTSTART:20261101T020000
TZOFFSETFROM:-0400
TZOFFSETTO:-0500
TZNAME:EST
END:STANDARD
BEGIN:DAYLIGHT
DTSTART:20270314T020000
TZOFFSETFROM:-0500
TZOFFSETTO:-0400
TZNAME:EDT
END:DAYLIGHT
END:VTIMEZONE
BEGIN:VEVENT
UID:calendar.71242.field_date.0@calendar.lafayette.edu
DTSTAMP:20260420T215700Z
DESCRIPTION:Stop by to pick up a seeded pot and take home a little burst of
  green. It’s \na quick\, fun way to celebrate Earth Month and add some lif
 e to your space. \nCome grab yours and grow something great!
DTSTART;TZID=America/New_York:20260420T110000
DTEND;TZID=America/New_York:20260420T130000
LAST-MODIFIED:20260417T173305Z
LOCATION:Quad
SUMMARY:Pots & Plants Pop-Up
URL;TYPE=URI:https://calendar.lafayette.edu/node/71242
END:VEVENT
END:VCALENDAR
