BEGIN:VCALENDAR
VERSION:2.0
PRODID:-//Drupal: Date iCal//NONSGML kigkonsult.se iCalcreator 2.18//
METHOD:PUBLISH
X-WR-CALNAME;VALUE=TEXT:Calendar of Events
BEGIN:VTIMEZONE
TZID:America/New_York
BEGIN:STANDARD
DTSTART:20261101T020000
TZOFFSETFROM:-0400
TZOFFSETTO:-0500
TZNAME:EST
END:STANDARD
BEGIN:DAYLIGHT
DTSTART:20270314T020000
TZOFFSETFROM:-0500
TZOFFSETTO:-0400
TZNAME:EDT
END:DAYLIGHT
END:VTIMEZONE
BEGIN:VEVENT
UID:calendar.71241.field_date.0@calendar.lafayette.edu
DTSTAMP:20260422T204143Z
DESCRIPTION:The Marquis Consort is a student ensemble founded by Prof. Jorg
 e Torres that \nexplores musicof the Middle Ages to the end of the Baroque
  era\, as well \nas traditional British Isles and Colonial American music.
  The \nprogram includes concertos\, chamber music\, and popular songs of t
 he \nGeorgian era\, fiddle tunes of Scots and Irish origin\, songs of the 
 \nAmerican Revolution\, and music associated with the black fiddlers of \n
 Thomas Jefferson’s Monticello.\nPlease consider taking a study break to jo
 in us for this delightful\, fun \nprogram\, featuring Maria Soukup and Aud
 rey Kurtz\, violins\, \nAdrian Santopatre\, viola\, Andreas Pelekis\, cell
 o\, Brian Morris on \nflute\, recorder\, and tin whistle\, Daly Gibson\, h
 arpsichord\, and soprano \nBella Crapanzano. The concert is free and open 
 to the public.
DTSTART;TZID=America/New_York:20260510T150000
DTEND;TZID=America/New_York:20260510T163000
LAST-MODIFIED:20260416T212543Z
LOCATION:William&#039\;s Center for the Arts\, Main Stage
SUMMARY:Lafayette Marquis Consort Concert
URL;TYPE=URI:https://calendar.lafayette.edu/node/71241
END:VEVENT
END:VCALENDAR
