BEGIN:VCALENDAR
VERSION:2.0
PRODID:-//Drupal: Date iCal//NONSGML kigkonsult.se iCalcreator 2.18//
METHOD:PUBLISH
X-WR-CALNAME;VALUE=TEXT:Calendar of Events
BEGIN:VTIMEZONE
TZID:America/New_York
BEGIN:STANDARD
DTSTART:20261101T020000
TZOFFSETFROM:-0400
TZOFFSETTO:-0500
TZNAME:EST
END:STANDARD
BEGIN:DAYLIGHT
DTSTART:20270314T020000
TZOFFSETFROM:-0500
TZOFFSETTO:-0400
TZNAME:EDT
END:DAYLIGHT
END:VTIMEZONE
BEGIN:VEVENT
UID:calendar.71240.field_date.0@calendar.lafayette.edu
DTSTAMP:20260422T204142Z
DESCRIPTION:LCCB typically performs one concert each semester. The repertoi
 re is selected \nfrom traditional concert band masterpieces\, newer works 
 by established and \nemerging composers\, commissions\, and orchestral tra
 nscriptions. Past concerts \nhave included works such as Husa’s /Music for
  Prague 1968/\, \nBernstein’s /Symphonic Dances from West Side Story/\, bo
 th Holst Suites\, \nGrainger’s /Lincolnshire Posy/\, and Mussorgsky’s /Pic
 tures at an \nExhibition/. LCCB has premiered works by composer/conductor 
 Kirk O’Riordan \nand 2010 Pesky Artist in Residence William Pfaff as well 
 as Ashley Kushner \n’19 and Zach Jones ’13.
DTSTART;TZID=America/New_York:20260509T200000
DTEND;TZID=America/New_York:20260509T213000
LAST-MODIFIED:20260416T211530Z
LOCATION:William&#039\;s Center for the Arts\, Main Stage
SUMMARY:Lafayette College Concert Band
URL;TYPE=URI:https://calendar.lafayette.edu/node/71240
END:VEVENT
END:VCALENDAR
