BEGIN:VCALENDAR
VERSION:2.0
PRODID:-//Drupal: Date iCal//NONSGML kigkonsult.se iCalcreator 2.18//
METHOD:PUBLISH
X-WR-CALNAME;VALUE=TEXT:Calendar of Events
BEGIN:VTIMEZONE
TZID:America/New_York
BEGIN:STANDARD
DTSTART:20261101T020000
TZOFFSETFROM:-0400
TZOFFSETTO:-0500
TZNAME:EST
END:STANDARD
BEGIN:DAYLIGHT
DTSTART:20270314T020000
TZOFFSETFROM:-0500
TZOFFSETTO:-0400
TZNAME:EDT
END:DAYLIGHT
END:VTIMEZONE
BEGIN:VEVENT
UID:calendar.71239.field_date.0@calendar.lafayette.edu
DTSTAMP:20260422T204144Z
DESCRIPTION:Students from all disciplines enjoy studying and performing a v
 ariety of \npercussion music from around the globe.\n\nRecent performances
  have included music from West Africa\, Bali\, Japan\, Latin \nAmerica\, a
 nd a number of contemporary styles and genres from jazz to J-pop. \nStuden
 ts have access to the Music Department’s large collection of \ninstruments
  and have the opportunity to perform throughout the year.\n\nRehearsals ar
 e held on Monday evenings from 6:30-8:30\, and on Friday \nafternoons. Stu
 dents may enroll for 1/4-credit: Music 158.\n\nThe ensemble is directed by
  Professor Wells.
DTSTART;TZID=America/New_York:20260504T200000
DTEND;TZID=America/New_York:20260504T211500
LAST-MODIFIED:20260416T210305Z
LOCATION:William&#039\;s Center for the Arts\, Main Stage
SUMMARY:Lafayette Percussion Ensemble
URL;TYPE=URI:https://calendar.lafayette.edu/node/71239
END:VEVENT
END:VCALENDAR
