BEGIN:VCALENDAR
VERSION:2.0
PRODID:-//Drupal: Date iCal//NONSGML kigkonsult.se iCalcreator 2.18//
METHOD:PUBLISH
X-WR-CALNAME;VALUE=TEXT:Calendar of Events
BEGIN:VTIMEZONE
TZID:America/New_York
BEGIN:STANDARD
DTSTART:20261101T020000
TZOFFSETFROM:-0400
TZOFFSETTO:-0500
TZNAME:EST
END:STANDARD
BEGIN:DAYLIGHT
DTSTART:20270314T020000
TZOFFSETFROM:-0500
TZOFFSETTO:-0400
TZNAME:EDT
END:DAYLIGHT
END:VTIMEZONE
BEGIN:VEVENT
UID:calendar.71238.field_date.0@calendar.lafayette.edu
DTSTAMP:20260422T204141Z
DESCRIPTION:The Lafayette College Chamber Orchestra\, under the direction o
 f Lewis\n\nR. Baratz\, presents “Kindred Spirits\,” a program of solo and 
 duo\n\nconcertos\, duets\, and works for a collaborative ensemble on Sunda
 y\,\n\nMay 3\, 3:00 PM\, on the main stage of the Williams Center for the 
 Arts.\n\nThe concert features student violin soloists Camile Voo\, Kate Sc
 hucht\,\n\nand Remy Ouazana\, violist soloists Alyssa Bello\, Jamie Lin\, 
 Adrian\n\nSantopatre\, and Teddy Sukernik\, flutist Brian Morris\, and gui
 tarist\n\nDaniel Wan. Music of the Chevalier de Saint-George\, Beethoven\,
 \n\nKajanus\, Manfredini\, Telemann\, and Vivaldi. The concert is free and
 \n\nopen to the public.\n\n 
DTSTART;TZID=America/New_York:20260503T150000
DTEND;TZID=America/New_York:20260503T161500
LAST-MODIFIED:20260416T204326Z
LOCATION:William&#039\;s Center for the Arts Main Stage
SUMMARY:Kindred Spirits - Chamber Orchestra Ensemble
URL;TYPE=URI:https://calendar.lafayette.edu/node/71238
END:VEVENT
END:VCALENDAR
