BEGIN:VCALENDAR
VERSION:2.0
PRODID:-//Drupal: Date iCal//NONSGML kigkonsult.se iCalcreator 2.18//
METHOD:PUBLISH
X-WR-CALNAME;VALUE=TEXT:Calendar of Events
BEGIN:VTIMEZONE
TZID:America/New_York
BEGIN:STANDARD
DTSTART:20261101T020000
TZOFFSETFROM:-0400
TZOFFSETTO:-0500
TZNAME:EST
END:STANDARD
BEGIN:DAYLIGHT
DTSTART:20270314T020000
TZOFFSETFROM:-0500
TZOFFSETTO:-0400
TZNAME:EDT
END:DAYLIGHT
END:VTIMEZONE
BEGIN:VEVENT
UID:calendar.71237.field_date.0@calendar.lafayette.edu
DTSTAMP:20260423T071750Z
DESCRIPTION:Tonight’s performance celebrates the power of cultural influenc
 e and the \nartists who redefine it. For over a century\, we’ve honored Bl
 ack excellence \nand the trailblazers who shaped the world around us. In o
 ur showcase theme\, \nIcons\, we bridge generations\, highlighting how leg
 acy is carried\, \ntransformed\, and reimagined. Performed by a collective
  of multicultural \nwomen\, this showcase reflects our goal of bringing cu
 lturally influenced \ndance styles to the stage—celebrating diversity\, st
 orytelling\, and shared \nexpression. Honoring the icons of the past while
  stepping boldly into the \nfuture.
DTSTART;TZID=America/New_York:20260425T180000
DTEND;TZID=America/New_York:20260425T200000
LAST-MODIFIED:20260416T165721Z
LOCATION:The Quad
SUMMARY:Pardchella: Prestigious Pardettes Showcase
URL;TYPE=URI:https://calendar.lafayette.edu/node/71237
END:VEVENT
END:VCALENDAR
