BEGIN:VCALENDAR
VERSION:2.0
PRODID:-//Drupal: Date iCal//NONSGML kigkonsult.se iCalcreator 2.18//
METHOD:PUBLISH
X-WR-CALNAME;VALUE=TEXT:Calendar of Events
BEGIN:VTIMEZONE
TZID:America/New_York
BEGIN:STANDARD
DTSTART:20261101T020000
TZOFFSETFROM:-0400
TZOFFSETTO:-0500
TZNAME:EST
END:STANDARD
BEGIN:DAYLIGHT
DTSTART:20270314T020000
TZOFFSETFROM:-0500
TZOFFSETTO:-0400
TZNAME:EDT
END:DAYLIGHT
END:VTIMEZONE
BEGIN:VEVENT
UID:calendar.71235.field_date.0@calendar.lafayette.edu
DTSTAMP:20260420T135835Z
DESCRIPTION:BFF Challenge!!\nThis activity is a test of knowledge\, connect
 ion\, and\, of course\, friendship \nwith your 'best friend'. You and your
  BFF together will compete and win up to \na prize\n\n-------- IMPORTED EV
 ENT ------------------------------------------------------\n\nThis event h
 as been imported from an external calendar. View the original \nevent [1].
 \n\n\n[1] https://ourcampus.lafayette.edu/ISA/rsvp?id=2142976
DTSTART;TZID=America/New_York:20260419T120000
DTEND;TZID=America/New_York:20260419T140000
LAST-MODIFIED:20260416T150532Z
LOCATION:Private Location (sign in to display)
SUMMARY:BFF Challenge - GBM
URL;TYPE=URI:https://calendar.lafayette.edu/node/71235
END:VEVENT
END:VCALENDAR
