BEGIN:VCALENDAR
VERSION:2.0
PRODID:-//Drupal: Date iCal//NONSGML kigkonsult.se iCalcreator 2.18//
METHOD:PUBLISH
X-WR-CALNAME;VALUE=TEXT:Calendar of Events
BEGIN:VTIMEZONE
TZID:America/New_York
BEGIN:STANDARD
DTSTART:20261101T020000
TZOFFSETFROM:-0400
TZOFFSETTO:-0500
TZNAME:EST
END:STANDARD
BEGIN:DAYLIGHT
DTSTART:20270314T020000
TZOFFSETFROM:-0500
TZOFFSETTO:-0400
TZNAME:EDT
END:DAYLIGHT
END:VTIMEZONE
BEGIN:VEVENT
UID:calendar.71234.field_date.0@calendar.lafayette.edu
DTSTAMP:20260419T205712Z
DESCRIPTION:Join HFA\, SHPE\, and Phi Sigma Chi\, and the Gateway Career Ce
 nter for a \nLinkedIn and Resume workshop where we learn how to open up a 
 LinkedIn\, how to \nmake a resume\, templates\, information to include\, e
 tc. This is a great \nopportunity to edit your resume and open up a Linked
 In if you don't have one!\n\n-------- IMPORTED EVENT ---------------------
 ---------------------------------\n\nThis event has been imported from an 
 external calendar. View the original \nevent [1].\n\n\n[1] https://ourcamp
 us.lafayette.edu/lafhfa/rsvp?id=2142973
DTSTART;TZID=America/New_York:20260420T163000
DTEND;TZID=America/New_York:20260420T173000
LAST-MODIFIED:20260416T150532Z
LOCATION:Private Location (sign in to display)
SUMMARY:HFA X SHPE X Phi Sigma Chi X Gateway LinkedIn & Resume Workshop!
URL;TYPE=URI:https://calendar.lafayette.edu/node/71234
END:VEVENT
END:VCALENDAR
