BEGIN:VCALENDAR
VERSION:2.0
PRODID:-//Drupal: Date iCal//NONSGML kigkonsult.se iCalcreator 2.18//
METHOD:PUBLISH
X-WR-CALNAME;VALUE=TEXT:Calendar of Events
BEGIN:VTIMEZONE
TZID:America/New_York
BEGIN:STANDARD
DTSTART:20261101T020000
TZOFFSETFROM:-0400
TZOFFSETTO:-0500
TZNAME:EST
END:STANDARD
BEGIN:DAYLIGHT
DTSTART:20270314T020000
TZOFFSETFROM:-0500
TZOFFSETTO:-0400
TZNAME:EDT
END:DAYLIGHT
END:VTIMEZONE
BEGIN:VEVENT
UID:calendar.71233.field_date.0@calendar.lafayette.edu
DTSTAMP:20260420T135838Z
DESCRIPTION:Join us for LAVA’s Festival of Paint—a fun\, creative event bri
 nging \ncampus together through art\, music\, and good vibes! Stop by the 
 Quad to enjoy \nfree popcorn\, music\, and a variety of interactive tables
  hosted by different \nclubs. You’ll be able to try activities like tie-dy
 e\, face painting\, and \nother hands-on art experiences. Whether you want
  to create something\, hang \nout with friends\, or just enjoy the atmosph
 ere\, there’s something for \neveryone. Come celebrate creativity with us!
 \n\n-------- IMPORTED EVENT ----------------------------------------------
 --------\n\nThis event has been imported from an external calendar. View t
 he original \nevent [1].\n\n\n[1] https://ourcampus.lafayette.edu/lavaa/rs
 vp?id=2142977
DTSTART;TZID=America/New_York:20260425T130000
DTEND;TZID=America/New_York:20260425T170000
LAST-MODIFIED:20260416T150531Z
LOCATION:Private Location (sign in to display)
SUMMARY:LAVA's Festival of Paint!
URL;TYPE=URI:https://calendar.lafayette.edu/node/71233
END:VEVENT
END:VCALENDAR
