BEGIN:VCALENDAR
VERSION:2.0
PRODID:-//Drupal: Date iCal//NONSGML kigkonsult.se iCalcreator 2.18//
METHOD:PUBLISH
X-WR-CALNAME;VALUE=TEXT:Calendar of Events
BEGIN:VTIMEZONE
TZID:America/New_York
BEGIN:STANDARD
DTSTART:20261101T020000
TZOFFSETFROM:-0400
TZOFFSETTO:-0500
TZNAME:EST
END:STANDARD
BEGIN:DAYLIGHT
DTSTART:20270314T020000
TZOFFSETFROM:-0500
TZOFFSETTO:-0400
TZNAME:EDT
END:DAYLIGHT
END:VTIMEZONE
BEGIN:VEVENT
UID:calendar.71230.field_date.0@calendar.lafayette.edu
DTSTAMP:20260422T153116Z
DESCRIPTION: \n\nJoin Lafayette’s Chamber Singers for a relaxed\, one-hour 
 vocal jazz concert \nwith live jazz trio\, and surrounded by the sparkling
  vibe of Creative Spirit \nin Easton. Enjoy cupcakes from the community wh
 ile you listen! Free and \ncasual — 7:00 PM\, May 6 at Creative Spirit
DTSTART;TZID=America/New_York:20260506T190000
DTEND;TZID=America/New_York:20260506T201500
LAST-MODIFIED:20260421T181447Z
LOCATION:Creative Spirit\, downtown Easton
SUMMARY:Vocal Jazz: Cupcakes\, Crystals\, and Cool
URL;TYPE=URI:https://calendar.lafayette.edu/node/71230
END:VEVENT
END:VCALENDAR
