BEGIN:VCALENDAR
VERSION:2.0
PRODID:-//Drupal: Date iCal//NONSGML kigkonsult.se iCalcreator 2.18//
METHOD:PUBLISH
X-WR-CALNAME;VALUE=TEXT:Calendar of Events
BEGIN:VTIMEZONE
TZID:America/New_York
BEGIN:STANDARD
DTSTART:20261101T020000
TZOFFSETFROM:-0400
TZOFFSETTO:-0500
TZNAME:EST
END:STANDARD
BEGIN:DAYLIGHT
DTSTART:20270314T020000
TZOFFSETFROM:-0500
TZOFFSETTO:-0400
TZNAME:EDT
END:DAYLIGHT
END:VTIMEZONE
BEGIN:VEVENT
UID:calendar.71228.field_date.0@calendar.lafayette.edu
DTSTAMP:20260422T204141Z
DESCRIPTION:Celebrate Film and Media Studies seniors and wish them well as 
 they complete \ntheir time at Lafayette. All are welcome!
DTSTART;TZID=America/New_York:20260506T160000
DTEND;TZID=America/New_York:20260506T173000
LAST-MODIFIED:20260414T184500Z
LOCATION:Ahart Plaza
SUMMARY:FAMS Senior Celebration
URL;TYPE=URI:https://calendar.lafayette.edu/node/71228
END:VEVENT
END:VCALENDAR
