BEGIN:VCALENDAR
VERSION:2.0
PRODID:-//Drupal: Date iCal//NONSGML kigkonsult.se iCalcreator 2.18//
METHOD:PUBLISH
X-WR-CALNAME;VALUE=TEXT:Calendar of Events
BEGIN:VTIMEZONE
TZID:America/New_York
BEGIN:STANDARD
DTSTART:20261101T020000
TZOFFSETFROM:-0400
TZOFFSETTO:-0500
TZNAME:EST
END:STANDARD
BEGIN:DAYLIGHT
DTSTART:20270314T020000
TZOFFSETFROM:-0500
TZOFFSETTO:-0400
TZNAME:EDT
END:DAYLIGHT
END:VTIMEZONE
BEGIN:VEVENT
UID:calendar.71227.field_date.0@calendar.lafayette.edu
DTSTAMP:20260421T085023Z
DESCRIPTION:Join IHP for this one-of-a-kind career fair specifically for in
 ternational \nstudents!\n\nCome along to IHP Career Connect to network and
  explore career opportunities \nin the Philadelphia region with employers 
 open to hiring candidates with a \nvisa status.\n\nWhen: Thursday\, April 
 23rd\, 4:30 - 6:30pm\nWhere: University City Science Center\, 3rd Floor\nW
 ho should attend: Graduate international students (masters and doctoral)\;
  \nUndergraduate international students (bachelors) in their senior year\n
 \nWhat to expect:\nEmployer representatives from Philadelphia-area compani
 es\nLocal immigration attorneys to chat with\nLight bites and drinks (alco
 holic and non-alcoholic)\nNetworking with fellow students and professional
 s\n\nTickets are $5 (suggested donation).\n\n-------- IMPORTED EVENT -----
 -------------------------------------------------\n\nThis event has been i
 mported from an external calendar. View the original \nevent [1].\n\n\n[1]
  https://ourcampus.lafayette.edu/Gateway/rsvp?id=2142972
DTSTART;TZID=America/New_York:20260423T163000
DTEND;TZID=America/New_York:20260423T183000
LAST-MODIFIED:20260414T160523Z
LOCATION:Private Location (sign in to display)
SUMMARY:International House Philadelphia Career Connect
URL;TYPE=URI:https://calendar.lafayette.edu/node/71227
END:VEVENT
END:VCALENDAR
