BEGIN:VCALENDAR
VERSION:2.0
PRODID:-//Drupal: Date iCal//NONSGML kigkonsult.se iCalcreator 2.18//
METHOD:PUBLISH
X-WR-CALNAME;VALUE=TEXT:Calendar of Events
BEGIN:VTIMEZONE
TZID:America/New_York
BEGIN:STANDARD
DTSTART:20261101T020000
TZOFFSETFROM:-0400
TZOFFSETTO:-0500
TZNAME:EST
END:STANDARD
BEGIN:DAYLIGHT
DTSTART:20270314T020000
TZOFFSETFROM:-0500
TZOFFSETTO:-0400
TZNAME:EDT
END:DAYLIGHT
END:VTIMEZONE
BEGIN:VEVENT
UID:calendar.71221.field_date.0@calendar.lafayette.edu
DTSTAMP:20260421T173524Z
DESCRIPTION:A practical overview of managing finances after graduation\, in
 cluding loan \nrepayment\, budgeting on a full-time income\, saving for th
 e future\, and \nnavigating major financial decisions.\n\n-------- IMPORTE
 D EVENT ------------------------------------------------------\n\nThis eve
 nt has been imported from an external calendar. View the original \nevent 
 [1].\n\n\n[1] https://ourcampus.lafayette.edu/wellness/rsvp?id=2142970
DTSTART;TZID=America/New_York:20260424T161500
DTEND;TZID=America/New_York:20260424T171500
LAST-MODIFIED:20260414T130527Z
LOCATION:Private Location (sign in to display)
SUMMARY:Financial Literacy Workshop Series - Life Economics
URL;TYPE=URI:https://calendar.lafayette.edu/node/71221
END:VEVENT
END:VCALENDAR
