BEGIN:VCALENDAR
VERSION:2.0
PRODID:-//Drupal: Date iCal//NONSGML kigkonsult.se iCalcreator 2.18//
METHOD:PUBLISH
X-WR-CALNAME;VALUE=TEXT:Calendar of Events
BEGIN:VTIMEZONE
TZID:America/New_York
BEGIN:STANDARD
DTSTART:20261101T020000
TZOFFSETFROM:-0400
TZOFFSETTO:-0500
TZNAME:EST
END:STANDARD
BEGIN:DAYLIGHT
DTSTART:20270314T020000
TZOFFSETFROM:-0500
TZOFFSETTO:-0400
TZNAME:EDT
END:DAYLIGHT
END:VTIMEZONE
BEGIN:VEVENT
UID:calendar.71218.field_date.0@calendar.lafayette.edu
DTSTAMP:20260420T215701Z
DESCRIPTION:State and Federal government representatives will offer brief r
 emarks on \ntheir career path and experience in public service (local\, st
 ate\, or \nfederal)\, followed by student Q&A and informal discussion.  Fe
 atured \nspeakers include:\n\n * PA State Representative Robert Freeman\n 
 * Nathan Gerace\, NE Regional Director\, Office of U.S. Senator McCormick
 \n * Christian Muniz\, Delta Development Group\n\nRefreshments will be ser
 ved starting at 5:45pm
DTSTART;TZID=America/New_York:20260423T180000
DTEND;TZID=America/New_York:20260423T200000
LAST-MODIFIED:20260413T180124Z
LOCATION:Jaqua Auditorium\, Hugel Science Center
SUMMARY:Careers in State & Federal Government
URL;TYPE=URI:https://calendar.lafayette.edu/node/71218
END:VEVENT
END:VCALENDAR
