BEGIN:VCALENDAR
VERSION:2.0
PRODID:-//Drupal: Date iCal//NONSGML kigkonsult.se iCalcreator 2.18//
METHOD:PUBLISH
X-WR-CALNAME;VALUE=TEXT:Calendar of Events
BEGIN:VTIMEZONE
TZID:America/New_York
BEGIN:STANDARD
DTSTART:20261101T020000
TZOFFSETFROM:-0400
TZOFFSETTO:-0500
TZNAME:EST
END:STANDARD
BEGIN:DAYLIGHT
DTSTART:20270314T020000
TZOFFSETFROM:-0500
TZOFFSETTO:-0400
TZNAME:EDT
END:DAYLIGHT
END:VTIMEZONE
BEGIN:VEVENT
UID:calendar.71212.field_date.0@calendar.lafayette.edu
DTSTAMP:20260425T233831Z
DESCRIPTION:An open meeting hosted by the two strategic planning 'action te
 ams' working \non Interdisciplinary Infrastructure and Interdisciplinarity
  across the \nLiberal Arts & Engineering\, where we invite your ideas and 
 insights!\n\nLunch is provided.
DTSTART;TZID=America/New_York:20260505T121500
DTEND;TZID=America/New_York:20260505T130000
LAST-MODIFIED:20260412T131830Z
LOCATION:Pardee 120
SUMMARY:Let's talk about Interdisciplinarity at Lafayette (tentative)
URL;TYPE=URI:https://calendar.lafayette.edu/node/71212
END:VEVENT
END:VCALENDAR
