BEGIN:VCALENDAR
VERSION:2.0
PRODID:-//Drupal: Date iCal//NONSGML kigkonsult.se iCalcreator 2.18//
METHOD:PUBLISH
X-WR-CALNAME;VALUE=TEXT:Calendar of Events
BEGIN:VTIMEZONE
TZID:America/New_York
BEGIN:STANDARD
DTSTART:20261101T020000
TZOFFSETFROM:-0400
TZOFFSETTO:-0500
TZNAME:EST
END:STANDARD
BEGIN:DAYLIGHT
DTSTART:20270314T020000
TZOFFSETFROM:-0500
TZOFFSETTO:-0400
TZNAME:EDT
END:DAYLIGHT
END:VTIMEZONE
BEGIN:VEVENT
UID:calendar.71204.field_date.0@calendar.lafayette.edu
DTSTAMP:20260424T061011Z
DESCRIPTION:Your HR Benefits team\, along with the College’s medical plan c
 onsultant\, \nUSI\, will host an interactive presentation on the current m
 edical plan \noutlook and resources to help you navigate your healthcare a
 nd manage \nout-of-pocket expenses.\n\nIn-person: 2 p.m. April 30 (Oechsle
  224)\n\nVirtual: 2 p.m. May 7 (Zoom)\n\nREGISTER [1]\n\n\n[1] https://doc
 s.google.com/forms/d/e/1FAIpQLSd1BCnWUw6MeBKTVXsZtq-5LX99U3dHRnMaoTDjfKV1u
 UI_LA/viewform?usp=header
DTSTART;TZID=America/New_York:20260430T140000
DTEND;TZID=America/New_York:20260430T150000
LAST-MODIFIED:20260410T154615Z
LOCATION:Oechsle 224
SUMMARY:Medical Plan Outlook (in-person)
URL;TYPE=URI:https://calendar.lafayette.edu/node/71204
END:VEVENT
END:VCALENDAR
