BEGIN:VCALENDAR
VERSION:2.0
PRODID:-//Drupal: Date iCal//NONSGML kigkonsult.se iCalcreator 2.18//
METHOD:PUBLISH
X-WR-CALNAME;VALUE=TEXT:Calendar of Events
BEGIN:VTIMEZONE
TZID:America/New_York
BEGIN:STANDARD
DTSTART:20261101T020000
TZOFFSETFROM:-0400
TZOFFSETTO:-0500
TZNAME:EST
END:STANDARD
BEGIN:DAYLIGHT
DTSTART:20270314T020000
TZOFFSETFROM:-0500
TZOFFSETTO:-0400
TZNAME:EDT
END:DAYLIGHT
END:VTIMEZONE
BEGIN:VEVENT
UID:calendar.71203.field_date.0@calendar.lafayette.edu
DTSTAMP:20260421T085025Z
DESCRIPTION:Lafayette College is continuing the planning process for the \n
 Easton-Palmer-Forks Regional Multimodal Trail Planning Study. In January\,
  \ncommunity members were invited to share their thoughts through a survey
  and \nan on-campus event. Thanks to that feedback and the online survey\,
  the \nplanning team will return to campus to present ideas and concepts s
 haped by \nthe thoughts and comments shared.\n\nThe study provides an oppo
 rtunity to increase trail accessibility and routes \nbetween the City of E
 aston\, Forks Township\, and Palmer Township\; close \ncurrent trail gaps 
 to provide a safer route from College Hill to Metzgar \nCampus\; and enhan
 ce connectivity to the surrounding area\, regional trails\, \nand communit
 y destinations (parks\, retail\, schools\, etc.)\n\n*Please join us for an
  open house\, 5:30 p.m. Mon.\, April 27\, in the Marlo \nRoom in Farinon C
 ollege Center. RSVP  [1]| Parking available in Markle \nParking Deck [2] |
  Email danielsl@lafayette.edu [3] with questions or \nrequests *\n\n\n[1] 
 https://forms.office.com/Pages/ResponsePage.aspx?id=L8gZpLBca0ekeZGuinJp-M
 7cEr4nSiJJjdDffi1nCQtUQU45ODJIN05ITEY5TlpDODNDWFlYN1EwVy4u&amp\;origin=QRC
 ode&amp\;utm_source=Campus+%26+Community&amp\;utm_campaign=0236da41ab-Camp
 us+and+Community_McCartneyconstruction_12-25_C&amp\;utm_medium=email&amp\;
 utm_term=0_51d51c9fc3-0236da41ab-\n[2] https://campusmap.lafayette.edu/?ut
 m_source=Campus+%26+Community&amp\;utm_campaign=0236da41ab-Campus+and+Comm
 unity_McCartneyconstruction_12-25_C&amp\;utm_medium=email&amp\;utm_term=0_
 51d51c9fc3-0236da41ab-\n[3] mailto:danielsl@lafayette.edu?subject=Easton-P
 almer-Forks%20Regional%20Multimodal%20Trail
DTSTART;TZID=America/New_York:20260427T173000
DTEND;TZID=America/New_York:20260427T193000
LAST-MODIFIED:20260410T004927Z
LOCATION:Farinon\, Marlo Room
SUMMARY:Easton-Palmer-Forks Multimodal Trail Planning Study - Community Mee
 ting
URL;TYPE=URI:https://calendar.lafayette.edu/node/71203
END:VEVENT
END:VCALENDAR
