BEGIN:VCALENDAR
VERSION:2.0
PRODID:-//Drupal: Date iCal//NONSGML kigkonsult.se iCalcreator 2.18//
METHOD:PUBLISH
X-WR-CALNAME;VALUE=TEXT:Calendar of Events
BEGIN:VTIMEZONE
TZID:America/New_York
BEGIN:STANDARD
DTSTART:20261101T020000
TZOFFSETFROM:-0400
TZOFFSETTO:-0500
TZNAME:EST
END:STANDARD
BEGIN:DAYLIGHT
DTSTART:20270314T020000
TZOFFSETFROM:-0500
TZOFFSETTO:-0400
TZNAME:EDT
END:DAYLIGHT
END:VTIMEZONE
BEGIN:VEVENT
UID:calendar.71201.field_date.0@calendar.lafayette.edu
DTSTAMP:20260421T173522Z
DESCRIPTION:Green Move Out is a campus-wide sustainability and community se
 rvice effort \nwhere students recycle their clean\, unused\, or gently use
 d items by donating \nthem to local organizations\, our community sale and
  the campus thrift store. \nTo participate\, place your items in the green
  bins in your residence halls or \nhouses\, Farinon\, Marquis\, and RISC. 
 Larger items can be placed in Green Move \nOut POD containers across campu
 s beginning on May 7th.\nSign-up here: https://forms.gle/gYfwwjApaqMK26g68
  [1]\nLearn more: https://sustainability.lafayette.edu/events/green-move-o
 ut/ [2]\n\n-------- IMPORTED EVENT ---------------------------------------
 ---------------\n\nThis event has been imported from an external calendar.
  View the original \nevent [3].\n\n\n[1] https://forms.gle/gYfwwjApaqMK26g
 68\n[2] https://sustainability.lafayette.edu/events/green-move-out/\n[3] h
 ttps://ourcampus.lafayette.edu/SLF/rsvp?id=2142957
DTSTART;TZID=America/New_York:20260506T070000
DTEND;TZID=America/New_York:20260526T190000
LAST-MODIFIED:20260409T202528Z
LOCATION:Campus-Wide\, Easton\, PA 18042\, United States\, Easton\, PA 1804
 2\, United States
SUMMARY:Green Move Out
URL;TYPE=URI:https://calendar.lafayette.edu/node/71201
END:VEVENT
END:VCALENDAR
