BEGIN:VCALENDAR
VERSION:2.0
PRODID:-//Drupal: Date iCal//NONSGML kigkonsult.se iCalcreator 2.18//
METHOD:PUBLISH
X-WR-CALNAME;VALUE=TEXT:Calendar of Events
BEGIN:VTIMEZONE
TZID:America/New_York
BEGIN:STANDARD
DTSTART:20261101T020000
TZOFFSETFROM:-0400
TZOFFSETTO:-0500
TZNAME:EST
END:STANDARD
BEGIN:DAYLIGHT
DTSTART:20270314T020000
TZOFFSETFROM:-0500
TZOFFSETTO:-0400
TZNAME:EDT
END:DAYLIGHT
END:VTIMEZONE
BEGIN:VEVENT
UID:calendar.71200.field_date.0@calendar.lafayette.edu
DTSTAMP:20260421T085022Z
DESCRIPTION:Lafayette College’s Office of Sustainability and Landis Center 
 for \nCommunity Engagement are hosting the West Ward Sale on Saturday on J
 une 13th\, \nat Paxinosa Elementary School. The sale runs from 11 am-4 pm.
  We are looking \nfor volunteers to work between 8am-6pm to include suppor
 t for setup and \ntakedown of the event. Our hope is that you can voluntee
 r for any of the \nfollowing time slots: (setup 7-10\, early sale 10-1\, l
 ate sale 12:30-4\, \ntakedown 4-7). Items were collected from students as 
 they moved out and \ninclude things like new and gently used clothes\, fur
 niture\, kitchenware\, \nrugs\, office supplies\, mirrors and more. Help g
 ives these items a second life \nand keep them out of the landfill! Items 
 will be sold on a pay-what-you-can \nmodel\, meaning you get to set the pr
 ice that works for your budget upon \ncheckout. Bring a reusable bag! If y
 ou would like to volunteer to help at the \nsale sign up here: https://for
 ms.gle/fNBzgfAmHeCEYYFu5 [1]\n\n-------- IMPORTED EVENT ------------------
 ------------------------------------\n\nThis event has been imported from 
 an external calendar. View the original \nevent [2].\n\n\n[1] https://form
 s.gle/fNBzgfAmHeCEYYFu5\n[2] https://ourcampus.lafayette.edu/SLF/rsvp?id=2
 142956
DTSTART;TZID=America/New_York:20260613T110000
DTEND;TZID=America/New_York:20260613T150000
LAST-MODIFIED:20260409T202528Z
LOCATION:Paxinosa Elementary School \, 1221 Northampton St.\, Easton\, PA 1
 8042\, United States
SUMMARY:West Ward Sale
URL;TYPE=URI:https://calendar.lafayette.edu/node/71200
END:VEVENT
END:VCALENDAR
