BEGIN:VCALENDAR
VERSION:2.0
PRODID:-//Drupal: Date iCal//NONSGML kigkonsult.se iCalcreator 2.18//
METHOD:PUBLISH
X-WR-CALNAME;VALUE=TEXT:Calendar of Events
BEGIN:VTIMEZONE
TZID:America/New_York
BEGIN:STANDARD
DTSTART:20261101T020000
TZOFFSETFROM:-0400
TZOFFSETTO:-0500
TZNAME:EST
END:STANDARD
BEGIN:DAYLIGHT
DTSTART:20270314T020000
TZOFFSETFROM:-0500
TZOFFSETTO:-0400
TZNAME:EDT
END:DAYLIGHT
END:VTIMEZONE
BEGIN:VEVENT
UID:calendar.71193.field_date.0@calendar.lafayette.edu
DTSTAMP:20260422T204141Z
DESCRIPTION:The Jazz Ensemble explores a wide variety of jazz styles with a
  strong \nemphasis on the development of individual and group improvisatio
 nal skills. \nThe main-stage performance at the end of each semester\, inc
 ludes an \ninternationally touring artist to join in the performance. Rece
 nt guest \nartists have included NEA Jazz Master Phil Woods\, Bob Dorough\
 , Bill Goodwin\, \nBrian Charette\, Sam Burtis and so many more. 
DTSTART;TZID=America/New_York:20260430T200000
DTEND;TZID=America/New_York:20260430T213000
LAST-MODIFIED:20260409T162347Z
LOCATION:William&#039\;s Center for the Arts
SUMMARY:Jazz Ensemble Concert
URL;TYPE=URI:https://calendar.lafayette.edu/node/71193
END:VEVENT
END:VCALENDAR
