BEGIN:VCALENDAR
VERSION:2.0
PRODID:-//Drupal: Date iCal//NONSGML kigkonsult.se iCalcreator 2.18//
METHOD:PUBLISH
X-WR-CALNAME;VALUE=TEXT:Calendar of Events
BEGIN:VTIMEZONE
TZID:America/New_York
BEGIN:STANDARD
DTSTART:20261101T020000
TZOFFSETFROM:-0400
TZOFFSETTO:-0500
TZNAME:EST
END:STANDARD
BEGIN:DAYLIGHT
DTSTART:20270314T020000
TZOFFSETFROM:-0500
TZOFFSETTO:-0400
TZNAME:EDT
END:DAYLIGHT
END:VTIMEZONE
BEGIN:VEVENT
UID:calendar.71187.field_date.0@calendar.lafayette.edu
DTSTAMP:20260422T153106Z
DESCRIPTION:24 players pick and keep cards from 3 packs of Final Fantasy Pl
 ay Boosters. \nPlayers build a 40-card deck with basic lands provided\, an
 d play three \nrounds. Prize support is included as pack-per-win.\n\n-----
 --- IMPORTED EVENT ------------------------------------------------------
 \n\nThis event has been imported from an external calendar. View the origi
 nal \nevent [1].\n\n\n[1] https://ourcampus.lafayette.edu/SGN/rsvp?id=2142
 939
DTSTART;TZID=America/New_York:20260425T130000
DTEND;TZID=America/New_York:20260425T170000
LAST-MODIFIED:20260416T150531Z
LOCATION:Private Location (sign in to display)
SUMMARY:Magic the Gathering: Final Fantasy Draft
URL;TYPE=URI:https://calendar.lafayette.edu/node/71187
END:VEVENT
END:VCALENDAR
