BEGIN:VCALENDAR
VERSION:2.0
PRODID:-//Drupal: Date iCal//NONSGML kigkonsult.se iCalcreator 2.18//
METHOD:PUBLISH
X-WR-CALNAME;VALUE=TEXT:Calendar of Events
BEGIN:VTIMEZONE
TZID:America/New_York
BEGIN:STANDARD
DTSTART:20261101T020000
TZOFFSETFROM:-0400
TZOFFSETTO:-0500
TZNAME:EST
END:STANDARD
BEGIN:DAYLIGHT
DTSTART:20270314T020000
TZOFFSETFROM:-0500
TZOFFSETTO:-0400
TZNAME:EDT
END:DAYLIGHT
END:VTIMEZONE
BEGIN:VEVENT
UID:calendar.71185.field_date.0@calendar.lafayette.edu
DTSTAMP:20260423T024544Z
DESCRIPTION:All Lafayette students pay a 'Student Activities' Fee alongside
  tuition. Many \nstudents wonder where this money goes and what it is spen
 t on\, and that is \nanswered in this presentation! Join us to learn what 
 the fee is\, what happens \nwith it\, who benefits from it\, and much more
 !\n\n-------- IMPORTED EVENT ---------------------------------------------
 ---------\n\nThis event has been imported from an external calendar. View 
 the original \nevent [1].\n\n\n[1] https://ourcampus.lafayette.edu/LCSG/rs
 vp?id=2142954
DTSTART;TZID=America/New_York:20260427T173000
DTEND;TZID=America/New_York:20260427T180000
LAST-MODIFIED:20260409T150530Z
LOCATION:Private Location (sign in to display)
SUMMARY:Where does your Student Activities Fee go?
URL;TYPE=URI:https://calendar.lafayette.edu/node/71185
END:VEVENT
END:VCALENDAR
