BEGIN:VCALENDAR
VERSION:2.0
PRODID:-//Drupal: Date iCal//NONSGML kigkonsult.se iCalcreator 2.18//
METHOD:PUBLISH
X-WR-CALNAME;VALUE=TEXT:Calendar of Events
BEGIN:VTIMEZONE
TZID:America/New_York
BEGIN:STANDARD
DTSTART:20261101T020000
TZOFFSETFROM:-0400
TZOFFSETTO:-0500
TZNAME:EST
END:STANDARD
BEGIN:DAYLIGHT
DTSTART:20270314T020000
TZOFFSETFROM:-0500
TZOFFSETTO:-0400
TZNAME:EDT
END:DAYLIGHT
END:VTIMEZONE
BEGIN:VEVENT
UID:calendar.71183.field_date.0@calendar.lafayette.edu
DTSTAMP:20260420T215658Z
DESCRIPTION:The Student Government Budget Committee will be hosting a MANDA
 TORY budget \ninformation session for all clubs recognized under Student G
 overnment. Our \nfinancial guidelines states that in order for clubs to re
 ceive funding under \nStudent Government\, they must attend this event.\n
 \nPlease bring 1-2 club officers. It is recommended that you bring your cl
 ub \ntreasurer who will be submitting the Period A budget\, especially if 
 newly \nelected. You must not represent more than 2 clubs at this event. A
 ttendance \nwill be taken at these events in order to account for who is e
 ligible to \nreceive funding. The information session will present everyth
 ing you need to \nknow to be prepared for the next budget period.\n\nThere
  will be three events in ourcampus for registration\, your club is only \n
 required to go to one. There is no exceptions for clubs who do not attend 
 \nthis event.\n\n-------- IMPORTED EVENT ---------------------------------
 ---------------------\n\nThis event has been imported from an external cal
 endar. View the original \nevent [1].\n\n\n[1] https://ourcampus.lafayette
 .edu/LCSG/rsvp?id=2142951
DTSTART;TZID=America/New_York:20260427T180000
DTEND;TZID=America/New_York:20260427T190000
LAST-MODIFIED:20260409T150529Z
LOCATION:Private Location (sign in to display)
SUMMARY:MONDAY Mandatory Budget Information Session
URL;TYPE=URI:https://calendar.lafayette.edu/node/71183
END:VEVENT
END:VCALENDAR
