BEGIN:VCALENDAR
VERSION:2.0
PRODID:-//Drupal: Date iCal//NONSGML kigkonsult.se iCalcreator 2.18//
METHOD:PUBLISH
X-WR-CALNAME;VALUE=TEXT:Calendar of Events
BEGIN:VTIMEZONE
TZID:America/New_York
BEGIN:STANDARD
DTSTART:20261101T020000
TZOFFSETFROM:-0400
TZOFFSETTO:-0500
TZNAME:EST
END:STANDARD
BEGIN:DAYLIGHT
DTSTART:20270314T020000
TZOFFSETFROM:-0500
TZOFFSETTO:-0400
TZNAME:EDT
END:DAYLIGHT
END:VTIMEZONE
BEGIN:VEVENT
UID:calendar.71180.field_date.0@calendar.lafayette.edu
DTSTAMP:20260425T233831Z
DESCRIPTION:Please come celebrate the storied and impactful career of Profe
 ssor Nancy \nWaters\, who is retiring at the end of this academic year!\n
 \nShe touched the lives of countless students\, faculty\, and staff\, and 
 we \nwelcome all to come help Nancy celebrate the end of an era.\n\nPlease
  join us for appetizers and drinks to toast our beloved Professor who's \n
 candle has been a beacon and guiding light for so many of us at Lafayette 
 and \nbeyond.\n\nAnd\, whether you'll be there in person\, or there in spi
 rit\, we welcome you to \nsubmit a note\, picture\, or short video to Nanc
 y's kudoboard [1]. \n\nIf you would like to mail a letter to Nancy please 
 send it to:\n\nBiology Department\n\n746 High Street\n\nRISC-326\n\nEaston
 \, PA 18042\n\nAttn: Charlotte Gilbert\n\nAn email note please send to gil
 berch@lafayette.edu [2].\n\nThese will all be presented to Nancy at the pa
 rty.\n\nCan't wait to see everyone!!!\n\n\n[1] https://www.kudoboard.com/b
 oards/BQoj9Ouv\n[2] mailto:gilberch@lafayette.edu
DTSTART;TZID=America/New_York:20260512T170000
DTEND;TZID=America/New_York:20260512T184500
LAST-MODIFIED:20260408T185426Z
LOCATION:Rockwell Integrated Science Center 2nd floor Lobby
SUMMARY:Dr. Nancy McCreary Waters Retirement Party
URL;TYPE=URI:https://calendar.lafayette.edu/node/71180
END:VEVENT
END:VCALENDAR
