BEGIN:VCALENDAR
VERSION:2.0
PRODID:-//Drupal: Date iCal//NONSGML kigkonsult.se iCalcreator 2.18//
METHOD:PUBLISH
X-WR-CALNAME;VALUE=TEXT:Calendar of Events
BEGIN:VTIMEZONE
TZID:America/New_York
BEGIN:STANDARD
DTSTART:20261101T020000
TZOFFSETFROM:-0400
TZOFFSETTO:-0500
TZNAME:EST
END:STANDARD
BEGIN:DAYLIGHT
DTSTART:20270314T020000
TZOFFSETFROM:-0500
TZOFFSETTO:-0400
TZNAME:EDT
END:DAYLIGHT
END:VTIMEZONE
BEGIN:VEVENT
UID:calendar.71171.field_date.0@calendar.lafayette.edu
DTSTAMP:20260425T233831Z
DESCRIPTION:Support Easton's largest greenspace by bringing friends and fam
 ily to Easton \nCemetery. This event is a 100% volunteer based effort. All
  proceeds benefit \npreservation\, promotion\, and protection of Easton Ce
 metery. Register to \nvolunteer at the 5k \nhere: https://runsignup.com/Ra
 ce/Volunteer/PA/Easton/GreenTraill5K [1]\n\n\n[1] https://runsignup.com/Ra
 ce/Volunteer/PA/Easton/GreenTraill5K
DTSTART;TZID=America/New_York:20260503T090000
DTEND;TZID=America/New_York:20260503T120000
LAST-MODIFIED:20260406T185501Z
LOCATION:Historic Easton Cemetery
SUMMARY:Easton Cemetery Annual Green Trail 5k
URL;TYPE=URI:https://calendar.lafayette.edu/node/71171
END:VEVENT
END:VCALENDAR
